Workbook
Name Maschine: OFFSET('[1]Drop Down'!$J$2,0,0,COUNTA('[1]Drop Down'!$J:$J)-1)

Sheet Auftrag
B1: Nachweis über die Nutzung von Infrastrukturleistungen der Uni Bayreuth
B2: Abrechnung von Infrastrukturleistungen, die außerhalb wirtschaftlicher Forschungsprojekte oder Dienstleistungen erbracht wurden. Bitte reichen Sie auch die befüllte Kalkulation zur sonstigen wirtschaftlichen Tätigkeit und die Erklärung zur steuerlichen Behandlung ein.
B3: Lehrstuhl/Einrichtung:
B6: Auftraggeber: | F6: Neue Materialien Bayreuth GmbH, Gollieb-Keim-Straße 60, 95448 Bayreuth (USt-ID. DE 812 935 484)
B8: E-Mail Ansprechpartner: | J8: buchhaltung@nmbgmbh.de
C12: Auftragstext:
C16: Ansprechparter Uni:
B19: Arbeitszeit
B20: Name | G20: Art * | I20: Tätigkeit | R20: Datum/Zeitraum** | X20: Arbeitszeit in Stunden | AA20: Einzelpreis | AE20: Gesamtpreis (automatisch)
AA21: =IF(G21="","",VLOOKUP(G21,Tabelle3!$A$1:$B$32,2,)) | AE21: =IF(AND(X21="",AA21=""),"",SUM(X21*AA21))
AA22: =IF(G22="","",VLOOKUP(G22,Tabelle3!$A$1:$B$32,2,)) | AE22: =IF(AND(X22="",AA22=""),"",SUM(X22*AA22))
AA23: =IF(G23="","",VLOOKUP(G23,Tabelle3!$A$1:$B$32,2,)) | AE23: =IF(AND(X23="",AA23=""),"",SUM(X23*AA23))
AA24: =IF(G24="","",VLOOKUP(G24,Tabelle3!$A$1:$B$32,2,)) | AE24: =IF(AND(X24="",AA24=""),"",SUM(X24*AA24))
AA25: =IF(G25="","",VLOOKUP(G25,Tabelle3!$A$1:$B$32,2,)) | AE25: =IF(AND(X25="",AA25=""),"",SUM(X25*AA25))
AA26: =IF(G26="","",VLOOKUP(G26,Tabelle3!$A$1:$B$32,2,)) | AE26: =IF(AND(X26="",AA26=""),"",SUM(X26*AA26))
AA27: =IF(G27="","",VLOOKUP(G27,Tabelle3!$A$1:$B$32,2,)) | AE27: =IF(AND(X27="",AA27=""),"",SUM(X27*AA27))
AA28: =IF(G28="","",VLOOKUP(G28,Tabelle3!$A$1:$B$32,2,)) | AE28: =IF(AND(X28="",AA28=""),"",SUM(X28*AA28))
AA29: =IF(G29="","",VLOOKUP(G29,Tabelle3!$A$1:$B$32,2,)) | AE29: =IF(AND(X29="",AA29=""),"",SUM(X29*AA29))
AA30: =IF(G30="","",VLOOKUP(G30,Tabelle3!$A$1:$B$32,2,)) | AE30: =IF(AND(X30="",AA30=""),"",SUM(X30*AA30))
AA31: =IF(G31="","",VLOOKUP(G31,Tabelle3!$A$1:$B$32,2,)) | AE31: =IF(AND(X31="",AA31=""),"",SUM(X31*AA31))
B32: #NV im Einzelpreis am Ende löschen => Summenbildung
B33: * Eingruppierung-> Auswahlfeld ** Bitte beachten Sie, dass die Stundenaufzeichnungen nicht kollidieren, die für diese Person bereits in anderen Projekten erfasst wurden. Es können ausschließlich Stunden von Planstellenpersonal verrechnet werden. | AA33: Gesamt: | AE33: =SUM(AE21:AH32) -> 0
B35: Maschinenkosten
B36: Maschine (Invetarnummer) | X36: Stunden*** | AA36: Einzelpreis | AE36: Gesamtpreis (automatisch)
AE37: =X37*AA37 -> 0
AE38: =X38*AA38 -> 0
AE39: =X39*AA39 -> 0
AE40: =X40*AA40 -> 0
AE41: =X41*AA41 -> 0
AE42: =X42*AA42 -> 0
AE43: =X43*AA43 -> 0
AE44: =X44*AA44 -> 0
AE45: =X45*AA45 -> 0
AE46: =X46*AA46 -> 0
AE47: =X47*AA47 -> 0
AE48: =X48*AA48 -> 0
AE49: =X49*AA49 -> 0
B50: ***Beispiel: Wenn Sie für eine Tätigkeit 90 Minuten brauchen, tragen Sie bitte 1,5 Stunden ein. Die Vollkosten pro Stunde sind bei Herrn Grunert anzufragen. | AA50: Gesamt: | AE50: =SUM(AE37:AH49) -> 0
B52: Material und Sonstiges
B53: Menge | E53: Bez. | G53: Position | AA53: Einzelpreis | AE53: Gesamtpreis (automatisch)
AE54: =SUM(B54*AA54) -> 0
AE55: =SUM(B55*AA55) -> 0
AE56: =SUM(B56*AA56) -> 0
AE57: =SUM(B57*AA57) -> 0
AE58: =SUM(B58*AA58) -> 0
AA59: Gesamt: | AE59: =SUM(AE54:AH58) -> 0
D60: Arbeiten beendet | P60: Arbeiten noch nicht beendet
D64: Unterschrift Bearbeiter
B65: Abrechnung erfolgt nach § 6 Gegenseitige Nutzung von Infrastruktur und Dienstleistungen des bestehenden Kooperationsvertrages vom 27.11.20214 zwischen der Universität Bayreuth und der Neue Materialien Bayreuth GmbH der folgendes regelt: (1) Die Kooperationspartner räumen sich, soweit dies für die Durchführung der Kooperation erforderlich ist, im Rahmen der rechtlichen und tatsächlichen Möglichkeiten in ge-genseitiger Abstimmung die Nutzung von Infrastruktur (Räume, Geräte-, Anlagen-technik) sowie Dienstleistungen des jeweils anderen Partners gegenseitig ein. (2) Für die in (1) spezifizierte Nutzung erfolgt eine gegenseitige Vergütung des Leistungs-austausches gegen Rechnung zu marktüblichem Nutzungsentgelt.

Sheet Tabelle1
A1: Beamte | C1: Angestellte | E1: Personalvollkosten
A2: BesGr | B2: Stufe | C2: Entgelt-gruppe | D2: Entgelt-gruppe (Über-geleiteter Bestand) | E2: Stunde (in Euro)
E4: Verrechnungssatz | G4: Eingruppierung
A5: A3 | B5: Endstufe | C5: E2, E2Ü, E1 | D5: E2Ü | E5: 50.4 | G5: A3, E2, E2Ü. E1
A6: A4 | B6: Endstufe | E6: 52.17 | G6: A4
A7: A5 | B7: Endstufe | C7: E3 | D7: E3 | E7: 52.6 | G7: A5, E3
A8: A6 | C8: E5, E4 | E8: 53.17 | G8: A6, E5, E4
A9: A6+Z | B9: Endstufe | E9: 55.29 | G9: A6+Z
A10: A7 | B10: 8 | C10: E7, E6 | D10: E7, E6 | E10: 55.45 | G10: A7(8), E7, E6
A11: A8 | B11: Endstufe | C11: E8 | D11: E8 | E11: 60.06 | G11: A8, E8
A12: A9 | C12: E9 | D12: E9 | E12: 61.69 | G12: A9, E9
A13: A9+Z | B13: Endstufe | E13: 68.6 | G13: A9+Z
A14: A10 | B14: 7 | C14: E10 | D14: E10 | E14: 65.73 | G14: A10 (6), E10
A15: A10 | B15: Endstufe | E15: 70.01 | G15: A10+Z
A16: A11 | B16: 9 | C16: E11 | D16: E11 | E16: 73.39 | G16: A11(8), E11
A17: A12 | B17: Endstufe | C17: E12 | D17: E12 | E17: 82.63 | G17: A12, E12
A18: A13 | C18: E13, E13Ü | D18: E13 | E18: 84.84 | G18: A13, E13, E13Ü
A19: A13+Z | B19: Endstufe | E19: 93.15 | G19: A13+Z
A20: A14 | B20: 10 | C20: E14 | D20: E14, E13Ü | E20: 92.89 | G20: A14(7), E14, E13Ü
A21: A15 | B21: 10 | C21: E15 | E21: 103.06 | G21: A15(8), E15
A22: A16 | B22: Endstufe | C22: E15Ü | E22: 117.07 | G22: A16, E15Ü
A23: A16+Z | B23: Endstufe | E23: 120.65 | G23: A16+Z
A24: A13 | B24: Akad. Rat a. Z./Stufe 6 | E24: 79.38 | G24: A13 (Rat auf Zeit)(6)
A25: W1 | E25: 79.26 | G25: W1
A26: W2 | B26: 2 | C26: ohne Leistungs- bezüge | E26: 99.24 | G26: W2(2)
A27: W3 | B27: 2 | E27: 114.86 | G27: W3(2)
A29: C1 kw | B29: Endstufe | E29: 88.78 | G29: C1 kw (13)
A30: C2 kw | B30: Endstufe | E30: 104.4 | G30: C2 kw
A31: C3 kw | B31: Endstufe | E31: 115.02 | G31: C3 kw
A32: C4 kw | B32: Endstufe | E32: 161.89 | G32: C4 kw
A33: Studentische Hilfskräfte | E33: 22.39 | G33: SHK Hilfskraft
A34: SHK student. Hilfskräfte | E34: 22.39 | G34: nwHK
A35: nwHK student. Hilfskräfte | E35: 24.08 | G35: SHK Bachelor
A36: SHKBachelor student. Hilfskräfte

Sheet Tabelle3
A1: Eingruppierung | B1: Verrechnungssatz
A2: "" | B2: 0
A3: A3, E2, E2Ü. E1 | B3: 50.4
A4: A4 | B4: 52.17
A5: A5, E3 | B5: 52.6
A6: A6, E5, E4 | B6: 53.17
A7: A6+Z | B7: 55.19
A8: A7(8), E7, E6 | B8: 55.45
A9: A8, E8 | B9: 60.06
A10: A9, E9 | B10: 61.69
A11: A9+Z | B11: 68.6
A12: A10 (7), E10 | B12: 65.73
A13: A10 | B13: 70.01
... A32: SHK Bachelor | B32: 24.08

Sheet Tabelle2
C1: Gesamt: | E1: Feld 1 | F1: Feld1 | G1: Feld 2 | H1: Feld 2 | I1: Feld 3 | J1: Feld 3 | K1: Feld 4 | L1: Feld 4 | M1: Feld 5 | N1: Feld 5 | O1: Feld 6 | P1: Feld 6 | Q1: Feld 7 | R1: Feld 7 | S1: Feld 8 | T1: Feld 8 | U1: Feld 9 | V1: Feld 9 | W1: Feld 10 | X1: Feld 10 | Y1: Feld 11 | Z1: Feld 11
E2: Std. | F2: Min | G2: Std. | H2: Min | I2: Std. | J2: Min | K2: Std. | L2: Min | M2: Std. | N2: Min | O2: Std. | P2: Min | Q2: Std. | R2: Min | S2: Std. | T2: Min | U2: Std. | V2: Min | W2: Std. | X2: Min | Y2: Std. | Z2: Min
A3: Material | C3: =SUM(Auftrag!AA59) -> 0
